BEGIN:VCALENDAR
VERSION:2.0
PRODID:-//ZContent.net//ZapCalLib 1.0//EN
CALSCALE:GREGORIAN
METHOD:PUBLISH
BEGIN:VEVENT
SUMMARY:Bildungsreise nach Armenien (AUSGEBUCHT)
DTSTART:20260501T090000
DTEND:20260510T180000
UID:2026-04-24-11-48-20-0-@calendar.boell.de
DTSTAMP:20260424T094820
DESCRIPTION:▶ Siehe Veranstaltungsbeschreibung – Landesstiftung Hamburg
END:VEVENT
END:VCALENDAR
