BEGIN:VCALENDAR
VERSION:2.0
PRODID:-//ZContent.net//ZapCalLib 1.0//EN
CALSCALE:GREGORIAN
METHOD:PUBLISH
BEGIN:VEVENT
SUMMARY:Alles im Fluss!? Wasser in der Krise | in der Bibliothek Adendorf
DTSTART:20251103T150000
DTEND:20251110T210000
UID:2026-04-21-15-23-43-0-@calendar.boell.de
DTSTAMP:20260421T132343
DESCRIPTION:▶ Siehe Veranstaltungsbeschreibung – Stiftung Leben & Umwel
 t / Heinrich-Böll-Stiftung Niedersachsen
END:VEVENT
END:VCALENDAR
