BEGIN:VCALENDAR
VERSION:2.0
PRODID:-//ZContent.net//ZapCalLib 1.0//EN
CALSCALE:GREGORIAN
METHOD:PUBLISH
BEGIN:VEVENT
SUMMARY:VERBINDEN statt spalten | Buchvorstellung mit Gilda Sahebi | Eine A
 ntwort auf die Politik der Polarisierung
DTSTART:20251107T153000
DTEND:20251107T180000
UID:2026-04-21-01-05-24-0-@calendar.boell.de
DTSTAMP:20260420T230524
DESCRIPTION:Halle (Saale) – Landesstiftung Sachsen-Anhalt
END:VEVENT
END:VCALENDAR
