BEGIN:VCALENDAR
VERSION:2.0
PRODID:-//ZContent.net//ZapCalLib 1.0//EN
CALSCALE:GREGORIAN
METHOD:PUBLISH
BEGIN:VEVENT
SUMMARY:Die da oben und wir immer unten? | Ein Vortrag über Bürgerbeteili
 gung und direkte Demokratie 
DTSTART:20251119T190000
DTEND:20251119T203000
UID:2026-04-22-06-43-21-0-@calendar.boell.de
DTSTAMP:20260422T044321
DESCRIPTION:Landesstiftung Thüringen
END:VEVENT
END:VCALENDAR
