BEGIN:VCALENDAR
VERSION:2.0
PRODID:-//ZContent.net//ZapCalLib 1.0//EN
CALSCALE:GREGORIAN
METHOD:PUBLISH
BEGIN:VEVENT
SUMMARY:Werkstattgespräch  | Chancen & Herausforderungen  bei der Umsetzun
 g der „Gemeinsamen Leitlinien zum Umgang mit Kulturgütern und menschlic
 hen Überresten aus kolonialen Kontexten“
DTSTART:20251112T103000
DTEND:20251112T123000
UID:2026-04-26-06-14-59-0-@calendar.boell.de
DTSTAMP:20260426T041459
DESCRIPTION:▶ Heinrich-Böll-Stiftung\, Bundesstiftung Berlin sowie Onlin
 e – Heinrich-Böll-Stiftung - Bundesstiftung Berlin
END:VEVENT
END:VCALENDAR
