BEGIN:VCALENDAR
VERSION:2.0
PRODID:-//ZContent.net//ZapCalLib 1.0//EN
CALSCALE:GREGORIAN
METHOD:PUBLISH
BEGIN:VEVENT
SUMMARY:Der Westbalkan im Wartezimmer der EU
DTSTART:20251117T190000
DTEND:20251117T213000
UID:2026-04-21-20-01-29-0-@calendar.boell.de
DTSTAMP:20260421T180129
DESCRIPTION:Heinrich-Böll-Stiftung - Bundesstiftung Berlin – Berlin – 
 Heinrich-Böll-Stiftung - Bundesstiftung Berlin
END:VEVENT
END:VCALENDAR
