BEGIN:VCALENDAR
VERSION:2.0
PRODID:-//ZContent.net//ZapCalLib 1.0//EN
CALSCALE:GREGORIAN
METHOD:PUBLISH
BEGIN:VEVENT
SUMMARY:Shifting Grounds | Literatur als Ort der Auseinandersetzung | Doppe
 llesung mit Dmitrij Kapitelman & Yevgeniy Breyger
DTSTART:20251031T193000
DTEND:20251031T213000
UID:2026-04-21-10-27-39-0-@calendar.boell.de
DTSTAMP:20260421T082739
DESCRIPTION:Bremerhaven – Landesstiftung Bremen
END:VEVENT
END:VCALENDAR
