BEGIN:VCALENDAR
VERSION:2.0
PRODID:-//ZContent.net//ZapCalLib 1.0//EN
CALSCALE:GREGORIAN
METHOD:PUBLISH
BEGIN:VEVENT
SUMMARY:# 3 Gemeinwohlorientierte Plattformen und freies Wissen
DTSTART:20251105T170000
DTEND:20251105T183000
UID:2026-04-21-05-48-41-0-@calendar.boell.de
DTSTAMP:20260421T034841
DESCRIPTION:▶ Online-Veranstaltung – Heinrich-Böll-Stiftung - Bundesst
 iftung Berlin
END:VEVENT
END:VCALENDAR
