BEGIN:VCALENDAR
VERSION:2.0
PRODID:-//ZContent.net//ZapCalLib 1.0//EN
CALSCALE:GREGORIAN
METHOD:PUBLISH
BEGIN:VEVENT
SUMMARY:Russische Linke gegen den Krieg in der Ukraine | Politische Debatte
 n in der Emigration 
DTSTART:20251126T190000
DTEND:20251126T213000
UID:2026-04-21-05-48-40-0-@calendar.boell.de
DTSTAMP:20260421T034840
DESCRIPTION:▶ Siehe Veranstaltungsbeschreibung – Landesstiftung Berlin 
 (Bildungswerk)
END:VEVENT
END:VCALENDAR
