BEGIN:VCALENDAR
VERSION:2.0
PRODID:-//ZContent.net//ZapCalLib 1.0//EN
CALSCALE:GREGORIAN
METHOD:PUBLISH
BEGIN:VEVENT
SUMMARY:Recht und Repression | Bundeskongress der Arbeitskreise Kritischer 
 Jurist*innen (BAKJ)
DTSTART:20251128T180000
DTEND:20251130T130000
UID:2026-04-22-18-41-05-0-@calendar.boell.de
DTSTAMP:20260422T164105
DESCRIPTION:Göttingen – Stiftung Leben & Umwelt / Heinrich-Böll-Stiftun
 g Niedersachsen
END:VEVENT
END:VCALENDAR
