BEGIN:VCALENDAR
VERSION:2.0
PRODID:-//ZContent.net//ZapCalLib 1.0//EN
CALSCALE:GREGORIAN
METHOD:PUBLISH
BEGIN:VEVENT
SUMMARY:Lesung & Gespräch mit Helga Schubert: Luft zum Leben | Geschichten
  vom Übergang
DTSTART:20251123T150000
DTEND:20251123T163000
UID:2026-04-22-14-24-45-0-@calendar.boell.de
DTSTAMP:20260422T122445
DESCRIPTION:▶ Siehe Veranstaltungsbeschreibung – Rostock – Landesstif
 tung Mecklenburg-Vorpommern
END:VEVENT
END:VCALENDAR
