BEGIN:VCALENDAR
VERSION:2.0
PRODID:-//ZContent.net//ZapCalLib 1.0//EN
CALSCALE:GREGORIAN
METHOD:PUBLISH
BEGIN:VEVENT
SUMMARY:Shifting Grounds | Der Streit um die Erinnerung  | Gespräch über 
 Museen im Visier der Politik mit Paweł Machcewicz (PL) & Edward Tepporn (
 USA) im Dt. Auswandererhaus (BHV)
DTSTART:20251021T180000
DTEND:20251021T203000
UID:2026-04-21-20-01-26-0-@calendar.boell.de
DTSTAMP:20260421T180126
DESCRIPTION:Bremerhaven – Landesstiftung Bremen
END:VEVENT
END:VCALENDAR
