BEGIN:VCALENDAR
VERSION:2.0
PRODID:-//ZContent.net//ZapCalLib 1.0//EN
CALSCALE:GREGORIAN
METHOD:PUBLISH
BEGIN:VEVENT
SUMMARY:Die Nato-Osterweiterung | Putins Mythos vom gebrochenen westlichen 
 Versprechen
DTSTART:20251209T180000
DTEND:20251209T200000
UID:2026-04-22-06-42-57-0-@calendar.boell.de
DTSTAMP:20260422T044257
DESCRIPTION:Lüneburg – Stiftung Leben & Umwelt / Heinrich-Böll-Stiftung
  Niedersachsen
END:VEVENT
END:VCALENDAR
