BEGIN:VCALENDAR
VERSION:2.0
PRODID:-//ZContent.net//ZapCalLib 1.0//EN
CALSCALE:GREGORIAN
METHOD:PUBLISH
BEGIN:VEVENT
SUMMARY:Demokratie im Bild | Ein Fotowettbewerb über das, was uns zusammen
  hält
DTSTART:20251108T120000
DTEND:20251108T120000
UID:2026-04-21-13-10-59-0-@calendar.boell.de
DTSTAMP:20260421T111059
DESCRIPTION:Passau – Petra-Kelly-Stiftung
END:VEVENT
END:VCALENDAR
