BEGIN:VCALENDAR
VERSION:2.0
PRODID:-//ZContent.net//ZapCalLib 1.0//EN
CALSCALE:GREGORIAN
METHOD:PUBLISH
BEGIN:VEVENT
SUMMARY:TEILWEISE AUSGEBUCHT Zukunftsregion Ruhrgebiet?  | Mit dem Rad durc
 h das neue Revier –  Nachhaltigen Strukturwandel und Lebensqualität ent
 decken
DTSTART:20260906T150000
DTEND:20260911T150000
UID:2026-04-21-11-36-06-0-@calendar.boell.de
DTSTAMP:20260421T093606
DESCRIPTION:▶ Siehe Veranstaltungsbeschreibung – Landesstiftung Hamburg
END:VEVENT
END:VCALENDAR
