BEGIN:VCALENDAR
VERSION:2.0
PRODID:-//ZContent.net//ZapCalLib 1.0//EN
CALSCALE:GREGORIAN
METHOD:PUBLISH
BEGIN:VEVENT
SUMMARY:Weibliche Verfügbarkeit – adé! | Wie unsere Gesellschaft die Er
 schöpfung von Frauen produziert und wie wir sie loswerden
DTSTART:20251107T170000
DTEND:20251107T203000
UID:2026-04-22-06-42-48-0-@calendar.boell.de
DTSTAMP:20260422T044248
DESCRIPTION:▶ Siehe Veranstaltungsbeschreibung – Berlin – Landesstift
 ung Berlin (Bildungswerk)
END:VEVENT
END:VCALENDAR
