BEGIN:VCALENDAR
VERSION:2.0
PRODID:-//ZContent.net//ZapCalLib 1.0//EN
CALSCALE:GREGORIAN
METHOD:PUBLISH
BEGIN:VEVENT
SUMMARY:Gemeinsam stark! |  Machtkritisches Empowerment für Frauen in Verw
 altung und Ehrenamt
DTSTART:20251028T093000
DTEND:20251028T160000
UID:2026-04-21-20-00-58-0-@calendar.boell.de
DTSTAMP:20260421T180058
DESCRIPTION:▶ Siehe Veranstaltungsbeschreibung – Hannover – 
END:VEVENT
END:VCALENDAR
