BEGIN:VCALENDAR
VERSION:2.0
PRODID:-//ZContent.net//ZapCalLib 1.0//EN
CALSCALE:GREGORIAN
METHOD:PUBLISH
BEGIN:VEVENT
SUMMARY:regionales Netzwerktreffen Nord | auf einen Punsch am digitalen Lag
 erfeuer mit Dimitrij Konsewitch
DTSTART:20251027T190000
DTEND:20251027T210000
UID:2026-04-22-14-24-19-0-@calendar.boell.de
DTSTAMP:20260422T122419
DESCRIPTION:▶ Online-Veranstaltung – Stiftung Leben & Umwelt / Heinrich
 -Böll-Stiftung Niedersachsen
END:VEVENT
END:VCALENDAR
