BEGIN:VCALENDAR
VERSION:2.0
PRODID:-//ZContent.net//ZapCalLib 1.0//EN
CALSCALE:GREGORIAN
METHOD:PUBLISH
BEGIN:VEVENT
SUMMARY:Die Krimtataren // LiteraTouren // Bücherspuren | Lesung und Gespr
 äch
DTSTART:20251104T193000
DTEND:20251104T210000
UID:2026-04-22-10-09-20-0-@calendar.boell.de
DTSTAMP:20260422T080920
DESCRIPTION:Magdeburg – Landesstiftung Sachsen-Anhalt
END:VEVENT
END:VCALENDAR
