BEGIN:VCALENDAR
VERSION:2.0
PRODID:-//ZContent.net//ZapCalLib 1.0//EN
CALSCALE:GREGORIAN
METHOD:PUBLISH
BEGIN:VEVENT
SUMMARY:Alles im Fluss!? - Wasser in der Krise | Ausstellung in Kirchzarten
DTSTART:20251024T100000
DTEND:20251110T170000
UID:2026-04-22-22-13-08-0-@calendar.boell.de
DTSTAMP:20260422T201308
DESCRIPTION:▶ Siehe Veranstaltungsbeschreibung – Heinrich Böll Stiftun
 g Baden-Württemberg
END:VEVENT
END:VCALENDAR
