BEGIN:VCALENDAR
VERSION:2.0
PRODID:-//ZContent.net//ZapCalLib 1.0//EN
CALSCALE:GREGORIAN
METHOD:PUBLISH
BEGIN:VEVENT
SUMMARY:Abtreibungsprozesse in Leipzig | Vortrag
DTSTART:20251127T190000
DTEND:20251127T203000
UID:2026-04-22-12-23-07-0-@calendar.boell.de
DTSTAMP:20260422T102307
DESCRIPTION:▶ Siehe Veranstaltungsbeschreibung – Leipzig – 
END:VEVENT
END:VCALENDAR
