BEGIN:VCALENDAR
VERSION:2.0
PRODID:-//ZContent.net//ZapCalLib 1.0//EN
CALSCALE:GREGORIAN
METHOD:PUBLISH
BEGIN:VEVENT
SUMMARY:PFAS-Pestizide: Bedrohung für Gesundheit und Umwelt | Ewigkeitsgif
 te in unserer Nahrungskette
DTSTART:20251030T100000
DTEND:20251030T120000
UID:2026-04-23-23-29-20-0-@calendar.boell.de
DTSTAMP:20260423T212920
DESCRIPTION:Heinrich-Böll-Stiftung - Bundesstiftung Berlin – Berlin – 
 Heinrich-Böll-Stiftung - Bundesstiftung Berlin
END:VEVENT
END:VCALENDAR
