BEGIN:VCALENDAR
VERSION:2.0
PRODID:-//ZContent.net//ZapCalLib 1.0//EN
CALSCALE:GREGORIAN
METHOD:PUBLISH
BEGIN:VEVENT
SUMMARY:Öffentlichkeitsarbeit mit Wirkung | Workshop für Engagierte und K
 ommunalpolitiker*innen
DTSTART:20251108T100000
DTEND:20251108T170000
UID:2026-04-22-13-59-19-0-@calendar.boell.de
DTSTAMP:20260422T115919
DESCRIPTION:Erfurt – Landesstiftung Thüringen
END:VEVENT
END:VCALENDAR
