BEGIN:VCALENDAR
VERSION:2.0
PRODID:-//ZContent.net//ZapCalLib 1.0//EN
CALSCALE:GREGORIAN
METHOD:PUBLISH
BEGIN:VEVENT
SUMMARY:Wie wollen wir miteinander umgehen? | Ein Demokratie-Trainingslager
  in Kooperation mit der VHS Oberhausen
DTSTART:20260304T100000
DTEND:20260306T170000
UID:2026-04-22-11-40-13-0-@calendar.boell.de
DTSTAMP:20260422T094013
DESCRIPTION:▶ Siehe Veranstaltungsbeschreibung – Oberhausen – Landess
 tiftung Nordrhein-Westfalen
END:VEVENT
END:VCALENDAR
