BEGIN:VCALENDAR
VERSION:2.0
PRODID:-//ZContent.net//ZapCalLib 1.0//EN
CALSCALE:GREGORIAN
METHOD:PUBLISH
BEGIN:VEVENT
SUMMARY:Stolz und Eigensinn | Film und Gespräch
DTSTART:20251124T170000
DTEND:20251124T190000
UID:2026-04-22-18-41-10-0-@calendar.boell.de
DTSTAMP:20260422T164110
DESCRIPTION:Landesstiftung Sachsen-Anhalt
END:VEVENT
END:VCALENDAR
