BEGIN:VCALENDAR
VERSION:2.0
PRODID:-//ZContent.net//ZapCalLib 1.0//EN
CALSCALE:GREGORIAN
METHOD:PUBLISH
BEGIN:VEVENT
SUMMARY:„Türkischer Rechtsextremismus in der eigenen Kommune? Erkennen, 
 einordnen, handeln"
DTSTART:20251119T190000
DTEND:20251119T203000
UID:2026-04-22-21-31-52-0-@calendar.boell.de
DTSTAMP:20260422T193152
DESCRIPTION:▶ Online-Veranstaltung – Landesstiftung Rheinland-Pfalz
END:VEVENT
END:VCALENDAR
