BEGIN:VCALENDAR
VERSION:2.0
PRODID:-//ZContent.net//ZapCalLib 1.0//EN
CALSCALE:GREGORIAN
METHOD:PUBLISH
BEGIN:VEVENT
SUMMARY:# 1 Desinformation verstehen: Akteure, Mechanismen, Verantwortung
DTSTART:20251023T170000
DTEND:20251023T183000
UID:2026-04-22-09-49-14-0-@calendar.boell.de
DTSTAMP:20260422T074914
DESCRIPTION:▶ Online-Veranstaltung – Heinrich-Böll-Stiftung - Bundesst
 iftung Berlin
END:VEVENT
END:VCALENDAR
