BEGIN:VCALENDAR
VERSION:2.0
PRODID:-//ZContent.net//ZapCalLib 1.0//EN
CALSCALE:GREGORIAN
METHOD:PUBLISH
BEGIN:VEVENT
SUMMARY:Botswana: Was können wir von Afrikas ältester Demokratie lernen? 
 | in Kooperation mit Mehr Demokratie e.V.
DTSTART:20251205T153000
DTEND:20251206T183000
UID:2026-04-22-22-13-30-0-@calendar.boell.de
DTSTAMP:20260422T201330
DESCRIPTION:▶ Online-Veranstaltung – Landesstiftung Nordrhein-Westfalen
END:VEVENT
END:VCALENDAR
