BEGIN:VCALENDAR
VERSION:2.0
PRODID:-//ZContent.net//ZapCalLib 1.0//EN
CALSCALE:GREGORIAN
METHOD:PUBLISH
BEGIN:VEVENT
SUMMARY:Prenzlberg auf der Leinwand - Film & Dialog: Zuflucht nehmen
DTSTART:20251127T193000
DTEND:20251127T220000
UID:2026-04-21-20-00-50-0-@calendar.boell.de
DTSTAMP:20260421T180050
DESCRIPTION:▶ Siehe Veranstaltungsbeschreibung – Berlin – Landesstift
 ung Berlin (Bildungswerk)
END:VEVENT
END:VCALENDAR
