BEGIN:VCALENDAR
VERSION:2.0
PRODID:-//ZContent.net//ZapCalLib 1.0//EN
CALSCALE:GREGORIAN
METHOD:PUBLISH
BEGIN:VEVENT
SUMMARY:Einladung zum Online-Treffen der AG CleanUp | mit der Ocean Family
DTSTART:20250929T180000
DTEND:20250929T190000
UID:2026-04-22-22-13-27-0-@calendar.boell.de
DTSTAMP:20260422T201327
DESCRIPTION:▶ Online-Veranstaltung – Landesstiftung Schleswig-Holstein
END:VEVENT
END:VCALENDAR
