BEGIN:VCALENDAR
VERSION:2.0
PRODID:-//ZContent.net//ZapCalLib 1.0//EN
CALSCALE:GREGORIAN
METHOD:PUBLISH
BEGIN:VEVENT
SUMMARY:Empowerment und Allyship | Wie bleiben wir stark und verbünden uns
 ?
DTSTART:20251113T190000
DTEND:20251113T210000
UID:2026-04-22-06-42-40-0-@calendar.boell.de
DTSTAMP:20260422T044240
DESCRIPTION:▶ Siehe Veranstaltungsbeschreibung – Hamburg – Landesstif
 tung Hamburg
END:VEVENT
END:VCALENDAR
