BEGIN:VCALENDAR
VERSION:2.0
PRODID:-//ZContent.net//ZapCalLib 1.0//EN
CALSCALE:GREGORIAN
METHOD:PUBLISH
BEGIN:VEVENT
SUMMARY:Antimafia-Seminar | Mafia in Deutschland: Unsichtbar, aber gefährl
 ich
DTSTART:20251115T090000
DTEND:20251115T183000
UID:2026-04-24-00-36-05-0-@calendar.boell.de
DTSTAMP:20260423T223605
DESCRIPTION:▶ Siehe Veranstaltungsbeschreibung – Berlin – Landesstift
 ung Berlin (Bildungswerk)
END:VEVENT
END:VCALENDAR
