BEGIN:VCALENDAR
VERSION:2.0
PRODID:-//ZContent.net//ZapCalLib 1.0//EN
CALSCALE:GREGORIAN
METHOD:PUBLISH
BEGIN:VEVENT
SUMMARY:Culture for Resilience Forum 2025 in Varde (DK) | Abschlusskonferen
 z von BSR Cultural Pearls 
DTSTART:20251125T190000
DTEND:20251127T210000
UID:2026-04-22-14-24-45-0-@calendar.boell.de
DTSTAMP:20260422T122445
DESCRIPTION:▶ Siehe Veranstaltungsbeschreibung – Landesstiftung Schlesw
 ig-Holstein
END:VEVENT
END:VCALENDAR
