BEGIN:VCALENDAR
VERSION:2.0
PRODID:-//ZContent.net//ZapCalLib 1.0//EN
CALSCALE:GREGORIAN
METHOD:PUBLISH
BEGIN:VEVENT
SUMMARY:Ratschlag der Gemeinschaftsaufgabe | Fokus Enthinderung: Zusammenar
 beiten und Barrieren abbauen in der Stiftung
DTSTART:20251013T090000
DTEND:20251013T140000
UID:2026-04-22-21-31-22-0-@calendar.boell.de
DTSTAMP:20260422T193122
DESCRIPTION:▶ Siehe Veranstaltungsbeschreibung – 
END:VEVENT
END:VCALENDAR
