BEGIN:VCALENDAR
VERSION:2.0
PRODID:-//ZContent.net//ZapCalLib 1.0//EN
CALSCALE:GREGORIAN
METHOD:PUBLISH
BEGIN:VEVENT
SUMMARY:[FÄLLT AUS] Zukunftswerkstatt Arbeit | Wie arbeiten wir solidarisc
 h und nachhaltig?
DTSTART:20251126T170000
DTEND:20251126T203000
UID:2026-04-25-12-36-08-0-@calendar.boell.de
DTSTAMP:20260425T103608
DESCRIPTION:Jena – Landesstiftung Thüringen
END:VEVENT
END:VCALENDAR
