BEGIN:VCALENDAR
VERSION:2.0
PRODID:-//ZContent.net//ZapCalLib 1.0//EN
CALSCALE:GREGORIAN
METHOD:PUBLISH
BEGIN:VEVENT
SUMMARY:Berlin sozial: Wege in eine solidarische Gesellschaft | Auftakt der
  Veranstaltungsreihe
DTSTART:20251119T180000
DTEND:20251119T200000
UID:2026-04-22-06-43-08-0-@calendar.boell.de
DTSTAMP:20260422T044308
DESCRIPTION:▶ Siehe Veranstaltungsbeschreibung – Berlin – Landesstift
 ung Berlin (Bildungswerk)
END:VEVENT
END:VCALENDAR
