BEGIN:VCALENDAR
VERSION:2.0
PRODID:-//ZContent.net//ZapCalLib 1.0//EN
CALSCALE:GREGORIAN
METHOD:PUBLISH
BEGIN:VEVENT
SUMMARY:Jahresversammlung der Freundinnen und Freunde 2025
DTSTART:20251009T170000
DTEND:20251009T210000
UID:2026-04-25-06-20-28-0-@calendar.boell.de
DTSTAMP:20260425T042028
DESCRIPTION:Heinrich-Böll-Stiftung - Bundesstiftung Berlin – Berlin – 
 Heinrich-Böll-Stiftung - Bundesstiftung Berlin
END:VEVENT
END:VCALENDAR
