BEGIN:VCALENDAR
VERSION:2.0
PRODID:-//ZContent.net//ZapCalLib 1.0//EN
CALSCALE:GREGORIAN
METHOD:PUBLISH
BEGIN:VEVENT
SUMMARY:Die neue Weltordnung – Rückkehr des Imperialismus? | Jubiläumsv
 eranstaltung: 50. Grüner Salon Bielefeld mit Jürgen Trittin
DTSTART:20251012T113000
DTEND:20251012T133000
UID:2026-04-22-11-40-28-0-@calendar.boell.de
DTSTAMP:20260422T094028
DESCRIPTION:▶ Siehe Veranstaltungsbeschreibung – Bielefeld – Landesst
 iftung Nordrhein-Westfalen
END:VEVENT
END:VCALENDAR
