BEGIN:VCALENDAR
VERSION:2.0
PRODID:-//ZContent.net//ZapCalLib 1.0//EN
CALSCALE:GREGORIAN
METHOD:PUBLISH
BEGIN:VEVENT
SUMMARY:Nestwärme – Was wir von den Vögeln lernen können |  Ein politi
 scher Naturspaziergang 
DTSTART:20250901T160000
DTEND:20250901T180000
UID:2026-04-22-13-59-49-0-@calendar.boell.de
DTSTAMP:20260422T115949
DESCRIPTION:▶ Siehe Veranstaltungsbeschreibung – 
END:VEVENT
END:VCALENDAR
