BEGIN:VCALENDAR
VERSION:2.0
PRODID:-//ZContent.net//ZapCalLib 1.0//EN
CALSCALE:GREGORIAN
METHOD:PUBLISH
BEGIN:VEVENT
SUMMARY:WG-Zimmer gesucht - Mietwucher gefunden | Wege aus Wohnungskrise fÃ
 ¼r junge Menschen in Hamburg?
DTSTART:20251009T180000
DTEND:20251009T200000
UID:2026-04-22-22-13-07-0-@calendar.boell.de
DTSTAMP:20260422T201307
DESCRIPTION:â–¶ Siehe Veranstaltungsbeschreibung â€“ Hamburg â€“ Landesstif
 tung Hamburg
END:VEVENT
END:VCALENDAR
