BEGIN:VCALENDAR
VERSION:2.0
PRODID:-//ZContent.net//ZapCalLib 1.0//EN
CALSCALE:GREGORIAN
METHOD:PUBLISH
BEGIN:VEVENT
SUMMARY:Das Gefühl von Armut | Lesung und Gespräch
DTSTART:20251113T160000
DTEND:20251113T180000
UID:2026-04-24-05-19-54-0-@calendar.boell.de
DTSTAMP:20260424T031954
DESCRIPTION:Landesstiftung Sachsen-Anhalt
END:VEVENT
END:VCALENDAR
