BEGIN:VCALENDAR
VERSION:2.0
PRODID:-//ZContent.net//ZapCalLib 1.0//EN
CALSCALE:GREGORIAN
METHOD:PUBLISH
BEGIN:VEVENT
SUMMARY:„Wenn Tourismus zum Treiber von Gentrifizierung wird. Das Beispie
 l Mallorca“ | Mit Nora Müller (University of the Balearic Islands)
DTSTART:20251118T163000
DTEND:20251118T180000
UID:2026-04-22-09-49-19-0-@calendar.boell.de
DTSTAMP:20260422T074919
DESCRIPTION:▶ Online-Veranstaltung – Landesstiftung Sachsen (Weiterdenk
 en)
END:VEVENT
END:VCALENDAR
