BEGIN:VCALENDAR
VERSION:2.0
PRODID:-//ZContent.net//ZapCalLib 1.0//EN
CALSCALE:GREGORIAN
METHOD:PUBLISH
BEGIN:VEVENT
SUMMARY:State-led Gentrification? Eine Mixed-Methods-Analyse in vier deutsc
 hen Großstädten | Mit Luisa Brandt (BBSR – Bundesinstitut für Bau- St
 adt- und Raumforschung), Sascha Münch (HU Berlin), Lysania Sorger (JLU )
DTSTART:20251111T163000
DTEND:20251111T180000
UID:2026-04-24-08-45-52-0-@calendar.boell.de
DTSTAMP:20260424T064552
DESCRIPTION:▶ Online-Veranstaltung – Landesstiftung Sachsen (Weiterdenk
 en)
END:VEVENT
END:VCALENDAR
