BEGIN:VCALENDAR
VERSION:2.0
PRODID:-//ZContent.net//ZapCalLib 1.0//EN
CALSCALE:GREGORIAN
METHOD:PUBLISH
BEGIN:VEVENT
SUMMARY:Ein Jahr nach der Wahl: Zerstört Trump die Demokratie?
DTSTART:20251117T190000
DTEND:20251117T210000
UID:2026-04-23-06-57-44-0-@calendar.boell.de
DTSTAMP:20260423T045744
DESCRIPTION:Nürnberg – Petra-Kelly-Stiftung
END:VEVENT
END:VCALENDAR
