BEGIN:VCALENDAR
VERSION:2.0
PRODID:-//ZContent.net//ZapCalLib 1.0//EN
CALSCALE:GREGORIAN
METHOD:PUBLISH
BEGIN:VEVENT
SUMMARY:Europa zwischen Petrostate USA und Elektrostate China | Gesprächsk
 reis
DTSTART:20251001T130000
DTEND:20251001T143000
UID:2026-04-23-20-24-25-0-@calendar.boell.de
DTSTAMP:20260423T182425
DESCRIPTION:▶ Online-Veranstaltung – Heinrich-Böll-Stiftung - Bundesst
 iftung Berlin
END:VEVENT
END:VCALENDAR
