BEGIN:VCALENDAR
VERSION:2.0
PRODID:-//ZContent.net//ZapCalLib 1.0//EN
CALSCALE:GREGORIAN
METHOD:PUBLISH
BEGIN:VEVENT
SUMMARY:Info-Veranstaltung "Ocean Youngsters" | für Lehrkräfte
DTSTART:20250923T153000
DTEND:20250923T163000
UID:2026-04-22-15-37-59-0-@calendar.boell.de
DTSTAMP:20260422T133759
DESCRIPTION:▶ Online-Veranstaltung – Landesstiftung Schleswig-Holstein
END:VEVENT
END:VCALENDAR
