BEGIN:VCALENDAR
VERSION:2.0
PRODID:-//ZContent.net//ZapCalLib 1.0//EN
CALSCALE:GREGORIAN
METHOD:PUBLISH
BEGIN:VEVENT
SUMMARY:Let us talk, Ladiez* - Rhetoriktraining von und für Frauen*
DTSTART:20251105T180000
DTEND:20251126T203000
UID:2026-04-23-17-56-01-0-@calendar.boell.de
DTSTAMP:20260423T155601
DESCRIPTION:▶ Siehe Veranstaltungsbeschreibung – Landesstiftung Berlin 
 (Bildungswerk)
END:VEVENT
END:VCALENDAR
