BEGIN:VCALENDAR
VERSION:2.0
PRODID:-//ZContent.net//ZapCalLib 1.0//EN
CALSCALE:GREGORIAN
METHOD:PUBLISH
BEGIN:VEVENT
SUMMARY:Der Wasserverbrauch Künstlicher Intelligenz |  Globale Verteilungs
 fragen und die Auswirkungen digitaler Infrastrukturen  
DTSTART:20251118T100000
DTEND:20251118T120000
UID:2026-04-24-08-46-33-0-@calendar.boell.de
DTSTAMP:20260424T064633
DESCRIPTION:▶ Online-Veranstaltung – Stiftung Leben & Umwelt / Heinrich
 -Böll-Stiftung Niedersachsen
END:VEVENT
END:VCALENDAR
