BEGIN:VCALENDAR
VERSION:2.0
PRODID:-//ZContent.net//ZapCalLib 1.0//EN
CALSCALE:GREGORIAN
METHOD:PUBLISH
BEGIN:VEVENT
SUMMARY:Lesekreis: "Universalismus und Emanzipation“  | Wie hängen Unive
 rsalismus, Humanismus und Emanzipation zusammen?
DTSTART:20251022T190000
DTEND:20251126T213000
UID:2026-04-23-21-49-52-0-@calendar.boell.de
DTSTAMP:20260423T194952
DESCRIPTION:▶ Siehe Veranstaltungsbeschreibung – Berlin – Landesstift
 ung Berlin (Bildungswerk)
END:VEVENT
END:VCALENDAR
