BEGIN:VCALENDAR
VERSION:2.0
PRODID:-//ZContent.net//ZapCalLib 1.0//EN
CALSCALE:GREGORIAN
METHOD:PUBLISH
BEGIN:VEVENT
SUMMARY:Autoritäre Rebellion | Wie antimoderne Reflexe breite Schichten de
 r Gesellschaft erfassen und sie immer weiter nach rechts rücken
DTSTART:20251120T193000
DTEND:20251120T210000
UID:2026-04-22-09-48-20-0-@calendar.boell.de
DTSTAMP:20260422T074820
DESCRIPTION:Donaueschingen – Heinrich Böll Stiftung Baden-Württemberg
END:VEVENT
END:VCALENDAR
